BEGIN:VCALENDAR
VERSION:2.0
PRODID:-//81.169.145.82//NONSGML kigkonsult.se iCalcreator 2.20//
CALSCALE:GREGORIAN
METHOD:PUBLISH
X-WR-TIMEZONE:Europe/Berlin
BEGIN:VEVENT
UID:event109@Basketball Regionalliga Nord
DTSTAMP:20260423T174442Z
CATEGORIES:Norddeutsche Meisterschaft
DESCRIPTION:mU18 Norddeutsche Meisterschaft\nKategorie: Norddeutsche Meiste
 rschaft\nICS-Link: https://rln-basketball.de/index.php?option=com_jem&view
 =event&id=109:mu18-norddeutsche-meisterschaft\n
DTSTART;VALUE=DATE:20160430
DTEND;VALUE=DATE:20160502
SUMMARY:mU18 Norddeutsche Meisterschaft
URL:https://rln-basketball.de/index.php?option=com_jem&view=event&id=109:mu
 18-norddeutsche-meisterschaft
END:VEVENT
END:VCALENDAR
