BEGIN:VCALENDAR
VERSION:2.0
PRODID:-//81.169.145.82//NONSGML kigkonsult.se iCalcreator 2.20//
CALSCALE:GREGORIAN
METHOD:PUBLISH
X-WR-TIMEZONE:Europe/Berlin
BEGIN:VEVENT
UID:event138@Basketball Regionalliga Nord
DTSTAMP:20260422T150142Z
CATEGORIES:Sitzung
DESCRIPTION:9. Mitgliederversammlung der RLN\nKategorie: Sitzung\nICS-Link:
  https://rln-basketball.de/index.php?option=com_jem&view=event&id=138:9-mi
 tgliederversammlung-der-rln\n
DTSTART;TZID=Europe/Berlin:20170423T103000
DTEND;TZID=Europe/Berlin:20170423T103000
LOCATION:Ibis Hotel Hamburg Alster\,Holzdamm 4-12+16\,20099 Hamburg
SUMMARY:9. Mitgliederversammlung der RLN
URL:https://rln-basketball.de/index.php?option=com_jem&view=event&id=138:9-
 mitgliederversammlung-der-rln
END:VEVENT
END:VCALENDAR
