BEGIN:VCALENDAR
VERSION:2.0
PRODID:-//81.169.145.82//NONSGML kigkonsult.se iCalcreator 2.20//
CALSCALE:GREGORIAN
METHOD:PUBLISH
X-WR-TIMEZONE:Europe/Berlin
BEGIN:VEVENT
UID:event269@Basketball Regionalliga Nord
DTSTAMP:20260426T000000Z
CATEGORIES:Norddeutsche Meisterschaft
DESCRIPTION:wU16\nKategorie: Norddeutsche Meisterschaft\nICS-Link: https://
 rln-basketball.de/index.php?option=com_jem&view=event&id=269:wu16\n
DTSTART;VALUE=DATE:20210424
DTEND;VALUE=DATE:20210426
SUMMARY:wU16
URL:https://rln-basketball.de/index.php?option=com_jem&view=event&id=269:wu
 16
END:VEVENT
END:VCALENDAR
