BEGIN:VCALENDAR
VERSION:2.0
PRODID:-//81.169.145.82//NONSGML kigkonsult.se iCalcreator 2.20//
CALSCALE:GREGORIAN
METHOD:PUBLISH
X-WR-TIMEZONE:Europe/Berlin
BEGIN:VEVENT
UID:event314@Basketball Regionalliga Nord
DTSTAMP:20260420T090048Z
CATEGORIES:Qualifikation
DESCRIPTION:wU20\, mU20 Nord\nKategorie: Qualifikation\nICS-Link: https://r
 ln-basketball.de/index.php?option=com_jem&view=event&id=314:wu20-mu20-nord
 \n
DTSTART;VALUE=DATE:20220514
DTEND;VALUE=DATE:20220516
SUMMARY:wU20\, mU20 Nord
URL:https://rln-basketball.de/index.php?option=com_jem&view=event&id=314:wu
 20-mu20-nord
END:VEVENT
END:VCALENDAR
