BEGIN:VCALENDAR
VERSION:2.0
PRODID:-//81.169.145.82//NONSGML kigkonsult.se iCalcreator 2.20//
CALSCALE:GREGORIAN
METHOD:PUBLISH
X-WR-TIMEZONE:Europe/Berlin
BEGIN:VEVENT
UID:event437@Basketball Regionalliga Nord
DTSTAMP:20260423T214654Z
CATEGORIES:Lehrgang
DESCRIPTION:Schiedsrichterlehrgang Kader 1. Regionalliga\nKategorie: Lehrga
 ng\nICS-Link: https://rln-basketball.de/index.php?option=com_jem&view=even
 t&id=437:schiedsrichterlehrgang-kader-1-regionalliga\n
DTSTART;VALUE=DATE:20260911
DTEND;VALUE=DATE:20260914
LOCATION:Stade\,Stade\,Germany
SUMMARY:Schiedsrichterlehrgang Kader 1. Regionalliga
URL:https://rln-basketball.de/index.php?option=com_jem&view=event&id=437:sc
 hiedsrichterlehrgang-kader-1-regionalliga
END:VEVENT
BEGIN:VEVENT
UID:event438@Basketball Regionalliga Nord
DTSTAMP:20260423T214654Z
CATEGORIES:Lehrgang
DESCRIPTION:Vorbereitungtreffen für SR Coaches\nKategorie: Lehrgang\nICS-Li
 nk: https://rln-basketball.de/index.php?option=com_jem&view=event&id=438:v
 orbereitungtreffen-fuer-sr-coaches\n
DTSTART;VALUE=DATE:20260911
DTEND;VALUE=DATE:20260914
LOCATION:Stade\,Stade\,Germany
SUMMARY:Vorbereitungtreffen für SR Coaches
URL:https://rln-basketball.de/index.php?option=com_jem&view=event&id=438:vo
 rbereitungtreffen-fuer-sr-coaches
END:VEVENT
END:VCALENDAR
